0.1
0
0
-0.1
605397.757704634
4696872.07448978
