0.1
0
0
-0.1
607111.931446458
4696898.14316515
