0.1
0
0
-0.1
605424.025389639
4695137.19501304
