0.1
0
0
-0.1
607969.020065455
4696911.38630246
