0.1
0
0
-0.1
609692.31415374
4696359.99881844
