0.1
0
0
-0.1
610558.659310792
4695795.15793904
