0.1
0
0
-0.1
607995.930326001
4695176.50203527
