0.1
0
0
-0.1
609710.538522406
4695203.40981787
