0.1
0
0
-0.1
601145.91164906
4694495.19600788
