0.1
0
0
-0.1
602860.658030369
4694520.43599084
