0.1
0
0
-0.1
602020.220627582
4693351.24687964
