0.1
0
0
-0.1
602886.273897829
4692785.57842406
