0.1
0
0
-0.1
604575.405629807
4694545.87429453
