0.1
0
0
-0.1
610586.194158254
4694060.28968563
