0.1
0
0
-0.1
609737.854332497
4693468.55036038
