0.1
0
0
-0.1
611434.392098932
4694652.23950208
