0.1
0
0
-0.1
611462.131394522
4692917.37844132
