0.1
0
0
-0.1
601187.899977908
4691603.76387057
