0.1
0
0
-0.1
603761.081186155
4691641.61078214
