0.1
0
0
-0.1
601196.296844224
4691025.47385823
