0.1
0
0
-0.1
607183.095420851
4692271.82644579
