0.1
0
0
-0.1
607200.887608717
4691115.23640098
