0.1
0
0
-0.1
609756.065640283
4692311.97222507
