0.1
0
0
-0.1
610613.721834052
4692325.42415924
