0.1
0
0
-0.1
608049.718655585
4691706.77405469
