0.1
0
0
-0.1
602079.49066512
4689303.21786111
