0.1
0
0
-0.1
605502.792784609
4689932.58581399
