0.1
0
0
-0.1
605511.538556825
4689354.29550572
