0.1
0
0
-0.1
609491.679038981
4709082.72056396
