0.1
0
0
-0.1
612049.118962024
4709702.06429028
