0.1
0
0
-0.1
614625.23343455
4709165.61896777
