0.1
0
0
-0.1
610384.066197983
4706782.90832572
