0.1
0
0
-0.1
611230.674540482
4707374.90119558
