0.1
0
0
-0.1
612942.285184147
4707402.66749962
