0.1
0
0
-0.1
611239.944253082
4706796.57942147
