0.1
0
0
-0.1
613807.569822694
4706838.23201043
