0.1
0
0
-0.1
614634.786830303
4708587.29712707
