0.1
0
0
-0.1
615490.448588596
4708601.60612362
