0.1
0
0
-0.1
616365.500515242
4707459.26702491
