0.1
0
0
-0.1
609546.439351772
4705612.82074638
