0.1
0
0
-0.1
612961.108240837
4706246.02786279
