0.1
0
0
-0.1
612114.50277399
4705653.83008392
