0.1
0
0
-0.1
612970.519802442
4705667.71442635
