0.1
0
0
-0.1
612979.931229714
4705089.40115526
