0.1
0
0
-0.1
618952.730305329
4706346.1898909
