0.1
0
0
-0.1
620684.717861106
4705219.02131012
