0.1
0
0
-0.1
618126.291404065
4704596.51049587
