0.1
0
0
-0.1
613854.977115312
4703946.66567665
