0.1
0
0
-0.1
613008.151016655
4703354.4783291
