0.1
0
0
-0.1
613873.922199707
4702790.05919308
